BEGIN:VCALENDAR
VERSION:2.0
PRODID:-//Code Kids Robotics
CALSCALE:GREGORIAN
METHOD:PUBLISH
X-WR-CALNAME:Code Kids Robotics
X-ORIGINAL-URL:https://www.codekids.org.uk/product/wimbledon-may-ht-camp-26th-may-29th-may-2026/
X-WR-CALDESC:Wimbledon &#8211; May HT Camp (26th May – 29th May 2026)
BEGIN:VEVENT
DTSTART:20260526T100000
DTEND:20260529T160000
SUMMARY:Wimbledon &#8211; May HT Camp (26th May – 29th May 2026)
DESCRIPTION:<span style="color: #333333;">In this May half term drop-off Camp (individual days can also be booked), the children will learn about robotics and coding through the use of various robots to grasp key programming and engineering concepts in a fun learning environment.</span>
<h5><span style="color: #33cccc;"><b>Wimbledon - May Half Term Drop-off Camp (26th May - 29th May 2026)</b><b> Timetable:</b></span></h5>
<span style="color: #333333;">[table id=49 /]</span>

<span style="color: #333333;"><strong>Where:</strong> King’s College School, Southside, Wimbledon Common, Wimbledon, London SW19 4TT</span>

<span style="color: #333333;"><strong>What to bring:</strong> Nut-free packed lunch, refillable water bottle</span>

<span style="color: #333333;"><strong>Age Requirement: 6+</strong></span>

<span style="color: #333333;">No prior coding experience necessary. If your child has been to one of these workshops before, then their learning will be extended further and they will not have to repeat the same content as before.</span>
<p class="product_title entry-title fusion-responsive-typography-calculated" data-fontsize="24" data-lineheight="36px"><span style="color: #333333;"><strong>Wrap Around Care:</strong> Code Kids is offering extended childcare to parents who have booked coding and robotics camps at Wimbledon &amp; Blackheath. You can book either AM or PM care. </span></p>
<p data-fontsize="24" data-lineheight="36px"><span style="color: #333333;">For wrap around care booking: <span style="color: #0000ff;"><a style="color: #0000ff;" href="https://www.codekids.org.uk/product/wrap-around-care-may-ht-camp-26th-may-29th-may-2026/"><strong>Click here</strong></a></span></span></p>
<p class="product_title entry-title fusion-responsive-typography-calculated" data-fontsize="24" data-lineheight="36px"></p>
URL:https://www.codekids.org.uk/product/wimbledon-may-ht-camp-26th-may-29th-may-2026/
LOCATION:King’s College School, Southside, Wimbledon Common, Wimbledon, London SW19 4TT
END:VEVENT
END:VCALENDAR
