BEGIN:VCALENDAR
VERSION:2.0
PRODID:-//Code Kids Robotics
CALSCALE:GREGORIAN
METHOD:PUBLISH
X-WR-CALNAME:Code Kids Robotics
X-ORIGINAL-URL:https://www.codekids.org.uk/product/blackheath-lego-robotics-summer-holiday-camp-20th-july-24th-july-2026/
X-WR-CALDESC:Blackheath &#8211; Lego Robotics, Summer Holiday Camp (20th July &#8211; 24th July 2026)
BEGIN:VEVENT
DTSTART:20260720T100000
DTEND:20260724T150000
SUMMARY:Blackheath &#8211; Lego Robotics, Summer Holiday Camp (20th July &#8211; 24th July 2026)
DESCRIPTION:<span style="color: #000000;">In this summer holidays camp, children will use Lego to design and build robots to solve real world problems. They will learn to code these machines as well. In addition to the basics of robotics, learn key engineering principles such as force and motion, gear ratios and aerodynamics. You will also develop your structural design skills. Learn about motors and sensors and their uses as well as programming them to make them do what you command!</span>

<span style="color: #000000;"><strong>Add all 5 days to your basket to get a 10% discount</strong>:</span>
<h4><span style="color: #33cccc;"><strong>Blackheath - Lego Robotics, Summer Holiday Drop-off Camp (20th July - 24th July 2026) Timetable:</strong></span></h4>
<span style="color: #000000;">[table id=72 /]</span>

<span style="color: #000000;"><strong>Where: </strong>Blackheath High Senior School, Vanbrugh Park, London SE3 7AG</span>

<span style="color: #000000;"><strong>What to bring:</strong> Nut-free packed lunch, refillable water bottle</span>

<span style="color: #000000;"><strong>Age Requirement: 6+</strong></span>

<span style="color: #000000;">No prior coding experience necessary. If your child has been to one of these workshops before, then their learning will be extended further and they will not have to repeat the same content as before.</span>
<p class="product_title entry-title fusion-responsive-typography-calculated" data-fontsize="24" data-lineheight="36px"><span style="color: #000000;"><strong>Wrap Around Care:</strong> Code Kids is offering extended childcare to parents who have booked coding and robotics camps at Blackheath &amp; Wimbledon. You can book either AM or PM care. </span></p>
<p data-fontsize="24" data-lineheight="36px"><span style="color: #000000;">For wrap around care booking:  <span style="color: #0000ff;"><a style="color: #0000ff;" href="https://www.codekids.org.uk/product/wrap-around-care-summer-holiday-camp-20th-july-24th-july-2026/"><strong>Click here</strong></a></span></span></p>
URL:https://www.codekids.org.uk/product/blackheath-lego-robotics-summer-holiday-camp-20th-july-24th-july-2026/
LOCATION:Blackheath High Senior School,  Vanbrugh Park, London SE3 7AG
END:VEVENT
END:VCALENDAR
