BEGIN:VCALENDAR
VERSION:2.0
PRODID:-//Code Kids Robotics
CALSCALE:GREGORIAN
METHOD:PUBLISH
X-WR-CALNAME:Code Kids Robotics
X-ORIGINAL-URL:https://www.codekids.org.uk/product/blackheath-ai-coding-summer-holiday-camp-27th-july-31st-july-2026/
X-WR-CALDESC:Blackheath &#8211; AI Coding, Summer Holiday Camp (27th July – 31st July 2026)
BEGIN:VEVENT
DTSTART:20260727T100000
DTEND:20260731T150000
SUMMARY:Blackheath &#8211; AI Coding, Summer Holiday Camp (27th July – 31st July 2026)
DESCRIPTION:<span style="color: #000000;"><strong>AI Coding: Explore the Future of Technology</strong></span>

<span style="color: #000000;">AI Coding is an exciting and interactive course designed for young tech enthusiasts aged 9+. This course will introduce you to the fascinating world of Artificial Intelligence (AI) and teach you how to design, build, and train your own AI models.</span>

<span style="color: #000000;">AI is the most important technology shift in our lives. Understanding what AI is and how it can be applied to solve problems will be a key skillset for all kids to have.</span>

<span style="color: #000000;"><strong>What You Will Learn:</strong></span>
<ul>
 	<li><span style="color: #000000;"><strong>Understanding AI Design</strong>: Discover the basics of how AI works and explore the different types of AI.</span></li>
 	<li><span style="color: #000000;"><strong>Training Models</strong>: Learn how to train AI models to perform various tasks and improve their accuracy.</span></li>
 	<li><span style="color: #000000;"><strong>Language Understanding</strong>: Dive into natural language processing and teach AI to understand and generate human language.</span></li>
 	<li><span style="color: #000000;"><strong>Image Detection</strong>: Explore computer vision and create AI models that can detect and recognize images.</span></li>
 	<li><span style="color: #000000;"><strong>Emotion and Sentiment Detection</strong>: Develop AI that can detect emotions and sentiments in text and images.</span></li>
 	<li><span style="color: #000000;"><strong>Hands-on Projects</strong>: Apply your knowledge by working on fun and engaging projects that demonstrate the power of AI.</span></li>
</ul>
<span style="color: #000000;"><strong>Course Highlights:</strong></span>
<ul>
 	<li><span style="color: #000000;">Taught by experienced AI teachers.</span></li>
 	<li><span style="color: #000000;">Exciting project-based lessons designed by CODE KIDS.</span></li>
 	<li><span style="color: #000000;">Small learning groups with tutors.</span></li>
 	<li><span style="color: #000000;">Build friendships and learn socially with other students.</span></li>
 	<li><span style="color: #000000;">All devices and laptops provided.</span></li>
</ul>
<span style="color: #000000;">Join us and take your first step towards becoming an AI innovator!</span>
<h5><span style="color: #33cccc;"><strong>Blackheath: AI Coding, Summer Holiday Camp (27th July - 31st July 2026) Timetable:</strong></span></h5>
<h5><span style="color: #000000;">[table id=80 /]</span></h5>
<span style="color: #000000;"><strong>Where:</strong> Blackheath High Senior School, Vanbrugh Park, London SE3 7AG</span>

<span style="color: #000000;"><strong>What to bring:</strong> Nut-free packed lunch, refillable water bottle</span>

<span style="color: #000000;"><strong>Who Should Enrol: 9+</strong></span>

<span style="color: #000000;">This course is perfect for kids aged 9 and up who are curious about technology and eager to learn how to code.</span>

<span style="color: #000000;">No prior programming experience is necessary-just bring your creativity and enthusiasm!</span>
<p class="product_title entry-title fusion-responsive-typography-calculated" data-fontsize="24" data-lineheight="36px"><span style="color: #000000;"><strong>Wrap Around Care:</strong> Code Kids is offering extended childcare to parents who have booked coding and robotics camps at Dulwich, Blackheath &amp; Wimbledon. You can book either AM or PM care. </span></p>
<p data-fontsize="24" data-lineheight="36px"><span style="color: #000000;">For wrap around care booking: <span style="color: #0000ff;"><a style="color: #0000ff;" href="https://www.codekids.org.uk/product/wrap-around-care-summer-holiday-camp-27th-july-31st-july-2026/"><strong>Click here</strong></a></span></span></p>
URL:https://www.codekids.org.uk/product/blackheath-ai-coding-summer-holiday-camp-27th-july-31st-july-2026/
LOCATION:Blackheath High Senior School,  Vanbrugh Park, London SE3 7AG
END:VEVENT
END:VCALENDAR
