BEGIN:VCALENDAR
VERSION:2.0
PRODID:-//Code Kids Robotics
CALSCALE:GREGORIAN
METHOD:PUBLISH
X-WR-CALNAME:Code Kids Robotics
X-ORIGINAL-URL:https://www.codekids.org.uk/product/blackheath-roblox-coding-summer-holiday-camp-3rd-aug-7th-aug-2026/
X-WR-CALDESC:Blackheath &#8211; Roblox Coding, Summer Holiday Camp (3rd Aug – 7th Aug 2026)
BEGIN:VEVENT
DTSTART:20260803T100000
DTEND:20260807T150000
SUMMARY:Blackheath &#8211; Roblox Coding, Summer Holiday Camp (3rd Aug – 7th Aug 2026)
DESCRIPTION:<span style="color: #000000;">This course is designed for late primary to secondary aged students who are looking to learn to code using a proper “grown-up” programming language.</span>

<span style="color: #000000;">Learn to code using your favourite gaming platform and develop fun Roblox games. Our Lua based code editor is particularly suitable for this age group because it is really easy to use and can be built up to more text-heavy coding once you get comfortable with the basics.</span>

<span style="color: #000000;">This camp is a great introduction to both fundamental computer aided design and the Lua programming language. Lua is widely used as a scripting language by game developers across the world.</span>

<span style="color: #000000;">By the end of the course, the students will be comfortable programming and creating Roblox games and will have published at least one game on to Roblox, which could end up helping them make lots of Robux!</span>
<ul>
 	<li><span style="color: #000000;">Design a Roblox game in Roblox Studio</span></li>
 	<li><span style="color: #000000;">Learn Lua syntax and use it to script your game</span></li>
 	<li><span style="color: #000000;">Use loops and conditionals (IF/THEN/ELSE)</span></li>
 	<li><span style="color: #000000;">Understand variables (number, Boolean, string)</span></li>
 	<li><span style="color: #000000;">Create and use functions</span></li>
 	<li><span style="color: #000000;">Use all of the above to make a super cool game</span></li>
</ul>
<h5><strong><span style="color: #33cccc;">Roblox Coding, Summer Holiday Drop-off Camp (3rd Aug - 7th Aug 2026) Timetable:</span></strong></h5>
[table id=81 /]

<span style="color: #000000;"><strong>Where:</strong> Blackheath High Senior School, Vanbrugh Park, London SE3 7AG</span>

<span style="color: #000000;"><strong>What to bring:</strong> Nut-free packed lunch, refillable water bottle</span>

<span style="color: #000000;"><strong>Age Requirement: 10+</strong></span>

<span style="color: #000000;">No prior coding experience necessary. If your child has been to one of these workshops before, then their learning will be extended further and they will not have to repeat the same content as before.</span>
<p class="product_title entry-title fusion-responsive-typography-calculated" data-fontsize="24" data-lineheight="36px"><span style="color: #000000;"><strong>Wrap Around Care:</strong> Code Kids is offering extended childcare to parents who have booked coding and robotics camps at Blackheath &amp; Wimbledon. You can book either AM or PM care. </span></p>
<p data-fontsize="24" data-lineheight="36px"><span style="color: #000000;">For wrap around care booking:  <span style="color: #0000ff;"><a style="color: #0000ff;" href="https://www.codekids.org.uk/product/wrap-around-care-summer-holiday-camp-3rd-aug-7th-aug-2026/"><strong>Click here</strong></a></span></span></p>
URL:https://www.codekids.org.uk/product/blackheath-roblox-coding-summer-holiday-camp-3rd-aug-7th-aug-2026/
LOCATION:Blackheath High Senior School,  Vanbrugh Park, London SE3 7AG
END:VEVENT
END:VCALENDAR
