BEGIN:VCALENDAR
VERSION:2.0
PRODID:-//Code Kids Robotics
CALSCALE:GREGORIAN
METHOD:PUBLISH
X-WR-CALNAME:Code Kids Robotics
X-ORIGINAL-URL:https://www.codekids.org.uk/product/wimbledon-minecraft-coding-summer-holiday-camp-27th-july-31st-july-2026/
X-WR-CALDESC:Wimbledon &#8211; Minecraft Coding, Summer Holiday Camp (27th July – 31st July 2026)
BEGIN:VEVENT
DTSTART:20260727T100000
DTEND:20260731T160000
SUMMARY:Wimbledon &#8211; Minecraft Coding, Summer Holiday Camp (27th July – 31st July 2026)
DESCRIPTION:<span style="color: #000000;">Don’t just let your children play Minecraft, get them coding with it! In this summer holiday drop-off camp, the students will be taught to code using Minecraft, in a block-based programming language (Microsoft MakeCode). Individual days can be booked but a full week would really allow the students to grasp the coding concepts really well.</span>

<span style="color: #000000;"><strong>Add all 5 days to your basket to get a 10% discount</strong>:</span>
<h5><span style="color: #33cccc;"><b>Wimbledon - Minecraft Coding, Summer Camp (27th July - 31st July 2026)</b><b> Timetable:</b></span></h5>
<span style="color: #000000;">[table id=84/]</span>

<span style="color: #000000;"><strong>Where:</strong> King’s College School, Southside, Wimbledon Common, Wimbledon, London SW19 4TT</span>

<span style="color: #000000;"><strong>What to bring:</strong> Nut-free packed lunch, refillable water bottle</span>

<span style="color: #000000;"><strong>Age Requirement: 6+</strong></span>

<span style="color: #000000;">No prior coding experience necessary. If your child has been to one of these workshops before, then their learning will be extended further and they will not have to repeat the same content as before.</span>
<p class="product_title entry-title fusion-responsive-typography-calculated" data-fontsize="24" data-lineheight="36px"><span style="color: #000000;"><strong>Wrap Around Care:</strong> Code Kids is offering extended childcare to parents who have booked coding and robotics camps at Blackheath, Dulwich &amp; Wimbledon. You can book either AM or PM care. </span></p>
<p data-fontsize="24" data-lineheight="36px"><span style="color: #000000;">For wrap around care booking:  <span style="color: #0000ff;"><a style="color: #0000ff;" href="https://www.codekids.org.uk/product/wrap-around-care-summer-holiday-camp-27th-july-31st-july-2026/"><strong>Click here</strong></a></span></span></p>
URL:https://www.codekids.org.uk/product/wimbledon-minecraft-coding-summer-holiday-camp-27th-july-31st-july-2026/
LOCATION:King’s College School, Southside, Wimbledon Common, Wimbledon, London SW19 4TT
END:VEVENT
END:VCALENDAR
