BEGIN:VCALENDAR
VERSION:2.0
PRODID:-//Code Kids Robotics
CALSCALE:GREGORIAN
METHOD:PUBLISH
X-WR-CALNAME:Code Kids Robotics
X-ORIGINAL-URL:https://www.codekids.org.uk/product/wimbledon-making-mobile-apps-summer-holiday-camp-27th-july-31st-july-2026/
X-WR-CALDESC:Wimbledon &#8211; Making Mobile Apps, Summer Holiday Camp (27th July – 31st July 2026)
BEGIN:VEVENT
DTSTART:20260727T100000
DTEND:20260731T160000
SUMMARY:Wimbledon &#8211; Making Mobile Apps, Summer Holiday Camp (27th July – 31st July 2026)
DESCRIPTION:<div class="nav">
<div class="nav">

<span style="color: #000000;">This summer holiday allows you to create mobile apps for both Android and iOS. You can programme powerful functionality into your design and upload your amazing creations to the Google Play Store and Apple’s App Store.</span>

<span style="color: #000000;">Learn to design your user interface (UI) to be engaging, functional and proactive with regards to your user’s needs. Code the interactions within your user interface for a seamless user experience.</span>

<span style="color: #000000;">Our block based code editor is particularly suitable for this application because it is really easy to use and can be built up to more text-heavy coding once you get comfortable with the basics.</span>

<span style="color: #000000;">This camp is a great introduction to both fundamental programming concepts and design thinking.</span>

<span style="color: #000000;">By the end of the course, the students will be comfortable programming and creating content for mobile applications and will have published at least one app on to Google Play Store or Apple’s App Store.</span>
<ul>
 	<li><span style="color: #000000;">Understand your user’s needs</span></li>
 	<li><span style="color: #000000;">Design your user interface (UI)</span></li>
 	<li><span style="color: #000000;">Code interactions within your app</span></li>
 	<li><span style="color: #000000;">Upload your app onto Google Play Store or App Store</span></li>
</ul>
</div>
</div>
<h4><span style="color: #33cccc;"><strong>Wimbledon - Making Mobile Apps, Summer Camp (27th July - 31st July 2026) Timetable:</strong></span></h4>
<span style="color: #000000;">[table id=90 /]</span>

<span style="color: #000000;"><strong>Where:</strong> King’s College School, Southside, Wimbledon Common, Wimbledon, London SW19 4TT</span>

<span style="color: #000000;"><strong>What to bring:</strong> Nut-free packed lunch, refillable water bottle</span>

<span style="color: #000000;"><strong>Age Requirement: 10+</strong></span>

<span style="color: #000000;">No prior coding experience necessary. If your child has been to one of these workshops before, then their learning will be extended further and they will not have to repeat the same content as before.</span>
<p class="product_title entry-title fusion-responsive-typography-calculated" data-fontsize="24" data-lineheight="36px"><span style="color: #000000;"><strong>Wrap Around Care:</strong> Code Kids is offering extended childcare to parents who have booked coding and robotics camps at Blackheath, Dulwich &amp; Wimbledon. You can book either AM or PM care. </span></p>
<p data-fontsize="24" data-lineheight="36px"><span style="color: #333333;"><span style="color: #000000;">For wrap around care booking:</span> <span style="color: #0000ff;"><a style="color: #0000ff;" href="https://www.codekids.org.uk/product/wrap-around-care-summer-holiday-camp-27th-july-31st-july-2026/"><strong>Click here</strong></a></span></span></p>
URL:https://www.codekids.org.uk/product/wimbledon-making-mobile-apps-summer-holiday-camp-27th-july-31st-july-2026/
LOCATION:King’s College School, Southside, Wimbledon Common, Wimbledon, London SW19 4TT
END:VEVENT
END:VCALENDAR
