BEGIN:VCALENDAR
VERSION:2.0
PRODID:-//Code Kids Robotics
CALSCALE:GREGORIAN
METHOD:PUBLISH
X-WR-CALNAME:Code Kids Robotics
X-ORIGINAL-URL:https://www.codekids.org.uk/product/dulwich-summer-holiday-camp-3rd-aug-7th-aug-2026/
X-WR-CALDESC:Dulwich &#8211; Summer Holiday Camp (3rd Aug – 7th Aug 2026)
BEGIN:VEVENT
DTSTART:20260803T100000
DTEND:20260807T150000
SUMMARY:Dulwich &#8211; Summer Holiday Camp (3rd Aug – 7th Aug 2026)
DESCRIPTION:<span style="color: #000000;">In this Summer holiday drop-off Camp (individual days can also be booked), the children will learn about robotics and coding through the use of various robots to grasp key programming and engineering concepts in a fun learning environment.</span>

<span style="color: #000000;"><strong>Add all 5 days to your basket to get a 10% discount</strong>:</span>
<h5><span style="color: #33cccc;"><strong>Dulwich - </strong><strong>Summer Holiday Camp (3rd Aug - 7th Aug 2026) Timetable:</strong></span></h5>
<span style="color: #000000;">[table id=93 /]</span>

<span style="color: #000000;"><strong>Where: </strong>James Allen Girls School (JAGS), 144 East Dulwich Grove, London, SE22 8TE</span>

<span style="color: #000000;"><strong>What to bring:</strong> Nut-free packed lunch, refillable water bottle</span>

<span style="color: #000000;"><strong>Age Requirement: </strong>6+</span>

<span style="color: #000000;">No prior coding experience necessary. If your child has been to one of these workshops before, then their learning will be extended further and they will not have to repeat the same content as before.</span>
<p class="product_title entry-title fusion-responsive-typography-calculated" data-fontsize="24" data-lineheight="36px"><span style="color: #000000;"><strong>Wrap Around Care:</strong> Code Kids is offering extended childcare to parents who have booked coding and robotics camps at Blackheath, Dulwich &amp; Wimbledon. You can book either AM or PM care. </span></p>
<p data-fontsize="24" data-lineheight="36px"><span style="color: #000000;">For wrap around care booking:  <span style="color: #0000ff;"><a style="color: #0000ff;" href="https://www.codekids.org.uk/product/wrap-around-care-summer-holiday-camp-3rd-aug-7th-aug-2026/"><strong>Click here</strong></a></span></span></p>
URL:https://www.codekids.org.uk/product/dulwich-summer-holiday-camp-3rd-aug-7th-aug-2026/
LOCATION:James Allen Girls School (JAGS), 144 East Dulwich Grove, London, SE22 8TE
END:VEVENT
END:VCALENDAR
